BEGIN:VCALENDAR
VERSION:2.0
PRODID:-//イルチブレインヨガ新瑞橋教室 - ECPv6.15.20//NONSGML v1.0//EN
CALSCALE:GREGORIAN
METHOD:PUBLISH
X-ORIGINAL-URL:https://ilchibrainyoga-aratamabashi.com
X-WR-CALDESC:イルチブレインヨガ新瑞橋教室 のイベント
REFRESH-INTERVAL;VALUE=DURATION:PT1H
X-Robots-Tag:noindex
X-PUBLISHED-TTL:PT1H
BEGIN:VTIMEZONE
TZID:Asia/Tokyo
BEGIN:STANDARD
TZOFFSETFROM:+0900
TZOFFSETTO:+0900
TZNAME:JST
DTSTART:20160101T000000
END:STANDARD
END:VTIMEZONE
BEGIN:VEVENT
DTSTART;TZID=Asia/Tokyo:20170207T140000
DTEND;TZID=Asia/Tokyo:20170207T160000
DTSTAMP:20260425T210248
CREATED:20170201T190941Z
LAST-MODIFIED:20170201T191250Z
UID:431-1486476000-1486483200@ilchibrainyoga-aratamabashi.com
SUMMARY:へそヒーリング＆ヨガ体験会  in  新瑞橋スタジオ
DESCRIPTION:内容：へそヒーリングとヨガで心も体もリフレッシュできます。\n期待できる効果：肩こり防止・ダイエット・集中力アップ・心にゆとりができる\n対象者：健康が気になる方・便秘にお悩みの方・ダイエットしたい方\n開催日：2月7日（火）\n時間：14：00～16：00\n会場名： イルチブレインヨガ新瑞橋スタジオ\n会場住所：〒467-0806 愛知県名古屋市瑞穂区瑞穂通8-7-3 新瑞野村ビル3F\n参加費： 2000円(税込）\n問合せ電話： 052-853-1755【要予約】\nトレーナー：齋藤克也\nその他：動きやすい服装（更衣室あり） \n[event-button]
URL:https://ilchibrainyoga-aratamabashi.com/event/%e3%81%b8%e3%81%9d%e3%83%92%e3%83%bc%e3%83%aa%e3%83%b3%e3%82%b0%ef%bc%86%e3%83%a8%e3%82%ac%e4%bd%93%e9%a8%93%e4%bc%9a/
LOCATION:イルチブレインヨガ新瑞橋教室\, 愛知県名古屋市瑞穂区瑞穂通8-7-3　新瑞野村ビル3F\, 日本
CATEGORIES:ワークショップ
END:VEVENT
END:VCALENDAR